BEGIN:VCALENDAR
VERSION:2.0
PRODID:-//Eagle Forum of Alabama - ECPv6.15.20//NONSGML v1.0//EN
CALSCALE:GREGORIAN
METHOD:PUBLISH
X-WR-CALNAME:Eagle Forum of Alabama
X-ORIGINAL-URL:https://alabamaeagle.org
X-WR-CALDESC:Events for Eagle Forum of Alabama
REFRESH-INTERVAL;VALUE=DURATION:PT1H
X-Robots-Tag:noindex
X-PUBLISHED-TTL:PT1H
BEGIN:VTIMEZONE
TZID:UTC
BEGIN:STANDARD
TZOFFSETFROM:+0000
TZOFFSETTO:+0000
TZNAME:UTC
DTSTART:20250101T000000
END:STANDARD
END:VTIMEZONE
BEGIN:VEVENT
DTSTART;TZID=UTC:20260319T180000
DTEND;TZID=UTC:20260319T190000
DTSTAMP:20260423T135206
CREATED:20260316T182921Z
LAST-MODIFIED:20260316T183152Z
UID:25541-1773943200-1773946800@alabamaeagle.org
SUMMARY:March Meeting: Dr. Tankersly (West Shelby County) -
DESCRIPTION:🌟This is not a routine meeting. This is a wake-up call. 🌟 \nEagle Forum of \nWest Shelby County \n \nHosts:\nDr. Stewart Tankersly  \nDr. Tankersly has announced his candidacy for lt. governor* and is already leading the way for reform.  He will be sharing important information on the subjects below as well as relaying to us how he can further the cause in this capacity. \n\nOverwhelming bureaucracy that slows down care and frustrates patients and providers.\nProfit-driven decision making that large insurance companies\, pharmaceutical corporations and hospital systems make that lead to increased costs and access.\nInsurance barriers and denials\, prior authorizations\, coverage limits\nShortage of medical personnel\nRural access gaps – many communities lack hospitals\, as many have closed\nFragmented\, confusing systems that patients must navigate through with multiple providers insurers and systems that don’t communicate well with each other.\n\n\n\n\n\n\n*Eagle Forum of AL does not endorse candidates.\n\n\nThe views expressed in presentations made at EFA meetings are those of the speaker and not\, necessarily\, of EFA. Presentations at EFA events\, or the presence of vendors at EFA events\, does not constitute an endorsement of the vendor or speaker’s views\, products or services.
URL:https://alabamaeagle.org/event/march-meeting-dr-tankersly-west-shelby-county/
LOCATION:Cornerstone Church\, 2694 Highway 58\, Helena\, AL\, 35080\, United States
ATTACH;FMTTYPE=image/png:https://alabamaeagle.org/wp-content/uploads/2026/03/Copy-of-A.G.-Flyers-11-x-8.5-in-US-Letter-4.png
END:VEVENT
END:VCALENDAR